BEGIN:VCALENDAR
VERSION:2.0
PRODID:-//Mustang Club of Mid-Michigan - ECPv6.15.20//NONSGML v1.0//EN
CALSCALE:GREGORIAN
METHOD:PUBLISH
X-WR-CALNAME:Mustang Club of Mid-Michigan
X-ORIGINAL-URL:https://mustangclubmidmichigan.com
X-WR-CALDESC:Events for Mustang Club of Mid-Michigan
REFRESH-INTERVAL;VALUE=DURATION:PT1H
X-Robots-Tag:noindex
X-PUBLISHED-TTL:PT1H
BEGIN:VTIMEZONE
TZID:America/Detroit
BEGIN:DAYLIGHT
TZOFFSETFROM:-0500
TZOFFSETTO:-0400
TZNAME:EDT
DTSTART:20240310T070000
END:DAYLIGHT
BEGIN:STANDARD
TZOFFSETFROM:-0400
TZOFFSETTO:-0500
TZNAME:EST
DTSTART:20241103T060000
END:STANDARD
BEGIN:DAYLIGHT
TZOFFSETFROM:-0500
TZOFFSETTO:-0400
TZNAME:EDT
DTSTART:20250309T070000
END:DAYLIGHT
BEGIN:STANDARD
TZOFFSETFROM:-0400
TZOFFSETTO:-0500
TZNAME:EST
DTSTART:20251102T060000
END:STANDARD
BEGIN:DAYLIGHT
TZOFFSETFROM:-0500
TZOFFSETTO:-0400
TZNAME:EDT
DTSTART:20260308T070000
END:DAYLIGHT
BEGIN:STANDARD
TZOFFSETFROM:-0400
TZOFFSETTO:-0500
TZNAME:EST
DTSTART:20261101T060000
END:STANDARD
END:VTIMEZONE
BEGIN:VEVENT
DTSTART;TZID=America/Detroit:20250606T080000
DTEND;TZID=America/Detroit:20250608T170000
DTSTAMP:20260421T173043
CREATED:20240219T210321Z
LAST-MODIFIED:20250322T154100Z
UID:3371-1749196800-1749402000@mustangclubmidmichigan.com
SUMMARY:Carlisle Ford Nationals
DESCRIPTION:Carlisle Ford Nationals | Carlisle Events
URL:https://mustangclubmidmichigan.com/event/carlisle-ford-nationals/
LOCATION:Carlisle Ford Nationals\, 1000 Bryn Mawr Rd\, Carlisle\, PA\, 17013\, United States
END:VEVENT
BEGIN:VEVENT
DTSTART;TZID=America/Detroit:20250614T080000
DTEND;TZID=America/Detroit:20250614T153000
DTSTAMP:20260421T173043
CREATED:20250322T155004Z
LAST-MODIFIED:20250521T015623Z
UID:3889-1749888000-1749915000@mustangclubmidmichigan.com
SUMMARY:44th Annual Mustang & All Ford Show
DESCRIPTION:Hosted by West Michigan Mustang Club – 940 O’Malley Dr\, Coopersville\, MI 49404\nExit 16 off of I96 \nHours – 8AM to 3:30PM\nRegistration – 8AM to 11AM\nPre-Registration – $15 until May17th\n$20 day of show
URL:https://mustangclubmidmichigan.com/event/44th-annual-mustang-all-ford-show/
LOCATION:Grand Rapids\, 940 O'Malley Dr\, coopersville\, Michigan
END:VEVENT
BEGIN:VEVENT
DTSTART;TZID=America/Detroit:20250614T080000
DTEND;TZID=America/Detroit:20250614T160000
DTSTAMP:20260421T173043
CREATED:20250322T155200Z
LAST-MODIFIED:20250322T155200Z
UID:3892-1749888000-1749916800@mustangclubmidmichigan.com
SUMMARY:Coleman Rod Benders Car Show
DESCRIPTION:
URL:https://mustangclubmidmichigan.com/event/coleman-rod-benders-car-show/
LOCATION:Downtown Coleman\, Coleman\, Michigan
END:VEVENT
BEGIN:VEVENT
DTSTART;TZID=America/Detroit:20250616T183000
DTEND;TZID=America/Detroit:20250616T200000
DTSTAMP:20260421T173043
CREATED:20221208T225651Z
LAST-MODIFIED:20250608T232534Z
UID:3130-1750098600-1750104000@mustangclubmidmichigan.com
SUMMARY:Membership Meeting - In Caro\, Michigan
DESCRIPTION:Check the newsletter and email for address\, time and details of the June Club Meeting at Levitte’s home\, in Caro
URL:https://mustangclubmidmichigan.com/event/membership-meeting-15/
LOCATION:Caro\, Michigan
CATEGORIES:Club Meetings
END:VEVENT
BEGIN:VEVENT
DTSTART;TZID=America/Detroit:20250627T080000
DTEND;TZID=America/Detroit:20250629T170000
DTSTAMP:20260421T173043
CREATED:20240219T213449Z
LAST-MODIFIED:20250322T152734Z
UID:3397-1751011200-1751216400@mustangclubmidmichigan.com
SUMMARY:MCA National Show - Queen City Mustangers
DESCRIPTION:Registration: Registration | Queen City Mustangers \nSee site for schedule of the days and times of events: Schedule
URL:https://mustangclubmidmichigan.com/event/mca-national-show-queen-city-mustangers/
LOCATION:Lakota West High School\, 8940 Union Centre Blvd\, West Chester\, Ohio
END:VEVENT
END:VCALENDAR