BEGIN:VCALENDAR
VERSION:2.0
PRODID:-//Mustang Club of Mid-Michigan - ECPv6.15.20//NONSGML v1.0//EN
CALSCALE:GREGORIAN
METHOD:PUBLISH
X-ORIGINAL-URL:https://mustangclubmidmichigan.com
X-WR-CALDESC:Events for Mustang Club of Mid-Michigan
REFRESH-INTERVAL;VALUE=DURATION:PT1H
X-Robots-Tag:noindex
X-PUBLISHED-TTL:PT1H
BEGIN:VTIMEZONE
TZID:America/Detroit
BEGIN:DAYLIGHT
TZOFFSETFROM:-0500
TZOFFSETTO:-0400
TZNAME:EDT
DTSTART:20240310T070000
END:DAYLIGHT
BEGIN:STANDARD
TZOFFSETFROM:-0400
TZOFFSETTO:-0500
TZNAME:EST
DTSTART:20241103T060000
END:STANDARD
BEGIN:DAYLIGHT
TZOFFSETFROM:-0500
TZOFFSETTO:-0400
TZNAME:EDT
DTSTART:20250309T070000
END:DAYLIGHT
BEGIN:STANDARD
TZOFFSETFROM:-0400
TZOFFSETTO:-0500
TZNAME:EST
DTSTART:20251102T060000
END:STANDARD
BEGIN:DAYLIGHT
TZOFFSETFROM:-0500
TZOFFSETTO:-0400
TZNAME:EDT
DTSTART:20260308T070000
END:DAYLIGHT
BEGIN:STANDARD
TZOFFSETFROM:-0400
TZOFFSETTO:-0500
TZNAME:EST
DTSTART:20261101T060000
END:STANDARD
END:VTIMEZONE
BEGIN:VEVENT
DTSTART;TZID=America/Detroit:20250816T070000
DTEND;TZID=America/Detroit:20250816T170000
DTSTAMP:20260421T143315
CREATED:20240219T211352Z
LAST-MODIFIED:20250322T151804Z
UID:3382-1755327600-1755363600@mustangclubmidmichigan.com
SUMMARY:Mustang Alley
DESCRIPTION:Details coming soon \n 
URL:https://mustangclubmidmichigan.com/event/mustang-alley/
LOCATION:Ferndale\, MI\, Ferndale\, MI
END:VEVENT
BEGIN:VEVENT
DTSTART;TZID=America/Detroit:20250816T080000
DTEND;TZID=America/Detroit:20250816T170000
DTSTAMP:20260421T143315
CREATED:20240219T210723Z
LAST-MODIFIED:20250322T151437Z
UID:3376-1755331200-1755363600@mustangclubmidmichigan.com
SUMMARY:Back to the Bricks
DESCRIPTION:MCMM reserved area on East 4th St.\, East of Saginaw. Limited to 14 attendees.  NO cost to attend.
URL:https://mustangclubmidmichigan.com/event/back-to-the-bricks/
LOCATION:Flint\, Downtown\, Flint\, MI
END:VEVENT
BEGIN:VEVENT
DTSTART;TZID=America/Detroit:20250816T080000
DTEND;TZID=America/Detroit:20250816T170000
DTSTAMP:20260421T143315
CREATED:20240219T210845Z
LAST-MODIFIED:20250322T151604Z
UID:3379-1755331200-1755363600@mustangclubmidmichigan.com
SUMMARY:Woodward Dream Cruise
DESCRIPTION:Detroit to Pontiac\, more details to come.
URL:https://mustangclubmidmichigan.com/event/woodward-dream-cruise/
LOCATION:Woodward Ave\, Woodward Ave\, Detroit
END:VEVENT
BEGIN:VEVENT
DTSTART;TZID=America/Detroit:20250817T090000
DTEND;TZID=America/Detroit:20250817T160000
DTSTAMP:20260421T143315
CREATED:20240731T201718Z
LAST-MODIFIED:20250322T151320Z
UID:3756-1755421200-1755446400@mustangclubmidmichigan.com
SUMMARY:Mustang Memories - Mustang Owners Club of Southeastern Michigan
DESCRIPTION:Details coming soon
URL:https://mustangclubmidmichigan.com/event/mustang-memories-mustang-owners-club-of-southeastern-michigan/
LOCATION:Ford HQ\, One American Road\, Dearborn\, MI
CATEGORIES:Car Shows
END:VEVENT
BEGIN:VEVENT
DTSTART;TZID=America/Detroit:20250818T183000
DTEND;TZID=America/Detroit:20250818T200000
DTSTAMP:20260421T143315
CREATED:20221208T225909Z
LAST-MODIFIED:20250322T143435Z
UID:3136-1755541800-1755547200@mustangclubmidmichigan.com
SUMMARY:Membership Meeting
DESCRIPTION:
URL:https://mustangclubmidmichigan.com/event/membership-meeting-18/
LOCATION:Sullivan’s Food & Spirits\, 5235 Gratiot Rd.\, (M46)\, Saginaw\, United States
CATEGORIES:Club Meetings
END:VEVENT
BEGIN:VEVENT
DTSTART;TZID=America/Detroit:20250824T090000
DTEND;TZID=America/Detroit:20250824T150000
DTSTAMP:20260421T143315
CREATED:20250322T154553Z
LAST-MODIFIED:20250322T154553Z
UID:3886-1756026000-1756047600@mustangclubmidmichigan.com
SUMMARY:Blue Oval Blast
DESCRIPTION:Details coming soon
URL:https://mustangclubmidmichigan.com/event/blue-oval-blast/
LOCATION:Fitzgerald Park\, Grand Ledge\, Michigan
END:VEVENT
END:VCALENDAR